Workbook
Name GROUP_TYPE: #REF!
Name UOM: #REF!

Sheet Bid Tab Comparison
A2: FY26-011 Bid Tab Comparison | E2: Engineer's Estimate | G2: Oz Paving | I2: Connell Resources | K2: Asphalt Specialties Co. | M2: All Pro Pavement | O2: Loya Construction | Q2: Martin Marietta | S2: Brannan Sand Gravel Co | U2: Simon
A3: Item No | B3: Description | C3: UNIT | D3: Quantity | E3: Unit Bid | F3: Total Bid | G3: Unit Bid | H3: Total Bid | I3: Unit Bid | J3: Total Bid | K3: Unit Bid | L3: Total Bid | M3: Unit Bid | N3: Total Bid | O3: Unit Bid | P3: Total Bid | Q3: Unit Bid | R3: Total Bid | S3: Unit Bid | T3: Total Bid | U3: Unit Bid | V3: Total Bid
A4: 1 | B4: ROTO-MILLING (DEPTH Varies) W/ MATERIAL HAULING REMOVAL | C4: SY | D4: 43700 | E4: 6 | F4: =E4*D4 -> 262200 | G4: 4.7 | H4: =D4*G4 -> 205390 | I4: 4.15 | J4: =D4*I4 -> 181355 | K4: 1.9 | L4: =K4*D4 -> 83030 | M4: 2 | N4: =D4*M4 -> 87400 | O4: 2.28 | P4: =O4*D4 -> 99636 | Q4: 2.3 | R4: =Q4*D4 -> 100510 | S4: 3 | T4: =S4*D4 -> 131100 | U4: 3 | V4: =U4*D4 -> 131100
A5: 2 | B5: HOT MIX ASPHALT PAVEMENT (Grading SX, SP 64-22, DEPTH Varies) | C5: Ton | D5: 7200 | E5: 110 | F5: =E5*D5 -> 792000 | G5: 98 | H5: =D5*G5 -> 705600 | I5: 105 | J5: =D5*I5 -> 756000 | K5: 76 | L5: =K5*D5 -> 547200 | M5: 93 | N5: =D5*M5 -> 669600 | O5: 99.43 | P5: =O5*D5 -> 715896 | Q5: 90 | R5: =Q5*D5 -> 648000 | S5: 88.88 | T5: =S5*D5 -> 639936 | U5: 86 | V5: =U5*D5 -> 619200
A6: 3 | B6: FULL DEPTH ASPHALT PATCH | C6: Ton | D6: 150 | E6: 110 | F6: =E6*D6 -> 16500 | G6: 250 | H6: =D6*G6 -> 37500 | I6: 201 | J6: =D6*I6 -> 30150 | K6: 165 | L6: =K6*D6 -> 24750 | M6: 135 | N6: =D6*M6 -> 20250 | O6: 226.02 | P6: =O6*D6 -> 33903 | Q6: 198 | R6: =Q6*D6 -> 29700 | S6: 350 | T6: =S6*D6 -> 52500 | U6: 275 | V6: =U6*D6 -> 41250
A7: 7 | B7: RAISE EXISTING ST/SS MANHOLE (W/ Conc. Collar) | C7: EA | D7: 38 | E7: 770 | F7: =E7*D7 -> 29260 | G7: 850 | H7: =D7*G7 -> 32300 | I7: 775 | J7: =D7*I7 -> 29450 | K7: 770 | L7: =K7*D7 -> 29260 | M7: 700 | N7: =D7*M7 -> 26600 | O7: 303.29 | P7: =O7*D7 -> 11525.02 | Q7: 740 | R7: =Q7*D7 -> 28120 | S7: 1395 | T7: =S7*D7 -> 53010 | U7: 900 | V7: =U7*D7 -> 34200
A8: 8 | B8: RAISE EXISTING WV, Survey, or C/O (W/ Conc. Collar) | C8: EA | D8: 70 | E8: 770 | F8: =E8*D8 -> 53900 | G8: 550 | H8: =D8*G8 -> 38500 | I8: 675 | J8: =D8*I8 -> 47250 | K8: 770 | L8: =K8*D8 -> 53900 | M8: 650 | N8: =D8*M8 -> 45500 | O8: 156.37 | P8: =O8*D8 -> 10945.9 | Q8: 740 | R8: =Q8*D8 -> 51800 | S8: 560 | T8: =S8*D8 -> 39200 | U8: 600 | V8: =U8*D8 -> 42000
A9: 9 | B9: SMALL ADA RAMP w / APRON | C9: SF | D9: 2400 | E9: 22 | F9: =E9*D9 -> 52800 | G9: 18.09 | H9: =D9*G9 -> 43416 | I9: 17.5 | J9: =D9*I9 -> 42000 | K9: 13 | L9: =K9*D9 -> 31200 | M9: 15.5 | N9: =D9*M9 -> 37200 | O9: 35.69 | P9: =O9*D9 -> 85656 | Q9: 12.75 | R9: =Q9*D9 -> 30600 | S9: 18.4 | T9: =S9*D9 -> 44160 | U9: 17.3 | V9: =U9*D9 -> 41520
A10: 10 | B10: SMALL ADA RAMP (NO APRON) | C10: SF | D10: 1330 | E10: 22 | F10: =E10*D10 -> 29260 | G10: 16.3 | H10: =D10*G10 -> 21679 | I10: 17.5 | J10: =D10*I10 -> 23275 | K10: 13 | L10: =K10*D10 -> 17290 | M10: 15.5 | N10: =D10*M10 -> 20615 | O10: 39 | P10: =O10*D10 -> 51870 | Q10: 12.75 | R10: =Q10*D10 -> 16957.5 | S10: 17.25 | T10: =S10*D10 -> 22942.5 | U10: 17.3 | V10: =U10*D10 -> 23009
A11: 11 | B11: MEDIUM ADA RAMP w / APRON | C11: SF | D11: 3030 | E11: 22 | F11: =E11*D11 -> 66660 | G11: 17.85 | H11: =D11*G11 -> 54085.5 | I11: 17.5 | J11: =D11*I11 -> 53025 | K11: 12.5 | L11: =K11*D11 -> 37875 | M11: 15.5 | N11: =D11*M11 -> 46965 | O11: 34.49 | P11: =O11*D11 -> 104504.7 | Q11: 12.75 | R11: =Q11*D11 -> 38632.5 | S11: 18.4 | T11: =S11*D11 -> 55752 | U11: 17.3 | V11: =U11*D11 -> 52419
A12: 12 | B12: MEDIUM ADA RAMP (NO APRON) | C12: SF | D12: 1730 | E12: 22 | F12: =E12*D12 -> 38060 | G12: 17.75 | H12: =D12*G12 -> 30707.5 | I12: 17.5 | J12: =D12*I12 -> 30275 | K12: 12.5 | L12: =K12*D12 -> 21625 | M12: 15.5 | N12: =D12*M12 -> 26815 | O12: 37.68 | P12: =O12*D12 -> 65186.4 | Q12: 12.75 | R12: =Q12*D12 -> 22057.5 | S12: 17.25 | T12: =S12*D12 -> 29842.5 | U12: 17.3 | V12: =U12*D12 -> 29929
A13: 14 | B13: THERMOPLASTIC (2' X 10 ' Crosswalk) | C13: EA | D13: 2 | E13: 14 | F13: =E13*D13 -> 28 | G13: 315 | H13: =D13*G13 -> 630 | I13: 385 | J13: =D13*I13 -> 770 | K13: 450 | L13: =K13*D13 -> 900 | M13: 280 | N13: =D13*M13 -> 560 | O13: 2961.45 | P13: =O13*D13 -> 5922.9 | Q13: 315 | R13: =Q13*D13 -> 630 | S13: 335 | T13: =S13*D13 -> 670 | U13: 306 | V13: =U13*D13 -> 612
A14: 15 | B14: (4") WHITE SKIP LANE LINE | C14: LF | D14: 5000 | E14: 1.65 | F14: =E14*D14 -> 8250 | G14: 1.05 | H14: =D14*G14 -> 5250 | I14: 1.3 | J14: =D14*I14 -> 6500 | K14: 0.5 | L14: =K14*D14 -> 2500 | M14: 2.5 | N14: =D14*M14 -> 12500 | O14: 1.48 | P14: =O14*D14 -> 7400 | Q14: 1.65 | R14: =Q14*D14 -> 8250 | S14: 0.57 | T14: =S14*D14 -> 2850 | U14: 1 | V14: =U14*D14 -> 5000
A15: 16 | B15: (4") WHITE SOLID LINE | C15: LF | D15: 100 | E15: 1.65 | F15: =E15*D15 -> 165 | G15: 1.05 | H15: =D15*G15 -> 105 | I15: 1.3 | J15: =D15*I15 -> 130 | K15: 0.5 | L15: =K15*D15 -> 50 | M15: 2.5 | N15: =D15*M15 -> 250 | O15: 1.35 | P15: =O15*D15 -> 135 | Q15: 1.65 | R15: =Q15*D15 -> 165 | S15: 1.38 | T15: =S15*D15 -> 138 | U15: 1 | V15: =U15*D15 -> 100
... A20: 21 | B20: MOBILIZATION AND DEMOBILIZATION | C20: LS | D20: 1 | E20: 22500 | F20: =E20*D20 -> 22500 | G20: 19000 | H20: =D20*G20 -> 19000 | I20: 31000 | J20: =D20*I20 -> 31000 | K20: 40000 | L20: =K20*D20 -> 40000 | M20: 40300 | N20: =D20*M20 -> 40300 | O20: 27806.71 | P20: =O20*D20 -> 27806.71 | Q20: 11425 | R20: =Q20*D20 -> 11425 | S20: 92604.5 | T20: =S20*D20 -> 92604.5 | U20: 27000 | V20: =U20*D20 -> 27000
B21: * Removal and Disposal of existing materials is to be included in concrete pricing | E21: Total | F21: =SUM(F4:F20) -> 1453387 | H21: =SUM(H4:H20) -> 1280703 | J21: =SUM(J4:J20) -> 1311650 | L21: =SUM(L4:L20) -> 977380 | N21: =SUM(N4:N20) -> 1084755 | P21: =SUM(P4:P20) -> 1282312.4 | R21: =SUM(R4:R20) -> 1071298 | T21: =SUM(T4:T20) -> 1270270 | V21: =SUM(V4:V20) -> 1106049
B22: * Landscape restoration is to be included in concrete pricing | G22: =G2 -> Oz Paving | I22: =I2 -> Connell Resources | K22: =K2 -> Asphalt Specialties Co. | M22: =M2 -> All Pro Pavement | O22: =O2 -> Loya Construction | Q22: =Q2 -> Martin Marietta | S22: =S2 -> Brannan Sand Gravel Co | U22: =U2 -> Simon
B23: * Base Repair included with Full Depth Asphalt Patching | G23: **$1,280,695 listed on submitted bid tab. Item #9 was calculated incorrectly. Difference of $8.00**

Sheet Ranking
A1: Rank | B1: Firm | C1: Total Bid
A2: 1 | B2: Asphalt Specialties Co. | C2: ='Bid Tab Comparison'!L21 -> 977380
A3: 2 | B3: Martin Marietta | C3: ='Bid Tab Comparison'!R21 -> 1071298
A4: 3 | B4: All Pro Pavement | C4: ='Bid Tab Comparison'!N21 -> 1084755
A5: 4 | B5: Simon | C5: ='Bid Tab Comparison'!V21 -> 1106049
A6: 5 | B6: Brannan Sand and Gravel | C6: ='Bid Tab Comparison'!T21 -> 1270270
A7: 6 | B7: Oz Paving | C7: ='Bid Tab Comparison'!H21 -> 1280703
A8: 7 | B8: Loya Construction | C8: ='Bid Tab Comparison'!P21 -> 1282312.4
A9: 8 | B9: Connell Resources | C9: ='Bid Tab Comparison'!J21 -> 1311650
